BEGIN:VCALENDAR
VERSION:2.0
PRODID: -//Q4 Inc.//EN
METHOD:PUBLISH
BEGIN:VTIMEZONE
TZID:America/New_York
X-LIC-LOCATION:America/New_York
BEGIN:DAYLIGHT
TZOFFSETFROM:-0500
TZOFFSETTO:-0400
TZNAME:EDT
DTSTART:19700308T020000
RRULE:FREQ=YEARLY;BYMONTH=3;BYDAY=2SU
END:DAYLIGHT
BEGIN:STANDARD
TZOFFSETFROM:-0400
TZOFFSETTO:-0500
TZNAME:EST
DTSTART:19701101T020000
RRULE:FREQ=YEARLY;BYMONTH=11;BYDAY=1SU
END:STANDARD
END:VTIMEZONE
BEGIN:VEVENT
ORGANIZER:MAILTO:no-reply@mastercard.com
DTSTART;TZID="America/New_York":20260430T090000
DTEND;TZID="America/New_York":20260430T100000
LOCATION:
UID:b37c328d-e262-4251-9eb0-bf63a10c024b
DTSTAMP:20260421T124443
SUMMARY:Q1 2026 Mastercard Inc. Earnings Conference Call
DESCRIPTION: View More Information: https://investor.mastercard.com/events-and-presentations/events/event-details/2026/Q1-2026-Mastercard-Inc-Earnings-Conference-Call/default.aspx
URL;VALUE=URI:https://investor.mastercard.com/events-and-presentations/events/event-details/2026/Q1-2026-Mastercard-Inc-Earnings-Conference-Call/default.aspx
PRIORITY:5
CLASS:PUBLIC
END:VEVENT
END:VCALENDAR
